Package: openCyto Version: 2.18.0 Command: chmod a+r openCyto -R && F:\biocbuild\bbs-3.20-bioc\R\bin\R.exe CMD build --keep-empty-dirs --no-resave-data openCyto StartedAt: 2025-01-30 20:40:20 -0500 (Thu, 30 Jan 2025) EndedAt: 2025-01-30 20:47:43 -0500 (Thu, 30 Jan 2025) EllapsedTime: 442.9 seconds RetCode: 0 Status: OK PackageFile: openCyto_2.18.0.tar.gz PackageFileSize: 1.047 MiB