Package: openCyto Version: 2.18.0 Command: /home/biocbuild/R/R/bin/R CMD build --keep-empty-dirs --no-resave-data openCyto StartedAt: 2025-01-31 01:31:48 -0000 (Fri, 31 Jan 2025) EndedAt: 2025-01-31 01:33:48 -0000 (Fri, 31 Jan 2025) EllapsedTime: 120.2 seconds RetCode: 0 Status: OK PackageFile: openCyto_2.18.0.tar.gz PackageFileSize: 1.289 MiB