Package: openCyto Version: 2.18.0 Command: /home/biocbuild/R/R/bin/R CMD INSTALL openCyto StartedAt: 2025-01-30 20:21:51 -0000 (Thu, 30 Jan 2025) EndedAt: 2025-01-30 20:22:27 -0000 (Thu, 30 Jan 2025) EllapsedTime: 36.8 seconds RetCode: 0 Status: OK