Package: oposSOM Version: 2.24.0 Command: rm -rf oposSOM.buildbin-libdir && mkdir oposSOM.buildbin-libdir && /Users/biocbuild/BBS/utils/build-universal.sh oposSOM_2.24.0.tar.gz /Library/Frameworks/R.framework/Resources/bin/R oposSOM.buildbin-libdir StartedAt: 2025-02-05 17:01:59 -0500 (Wed, 05 Feb 2025) EndedAt: 2025-02-05 17:02:44 -0500 (Wed, 05 Feb 2025) EllapsedTime: 44.4 seconds RetCode: 0 Status: OK PackageFile: oposSOM_2.24.0.tgz PackageFileSize: 13.59 MiB