Package: oposSOM Version: 2.24.0 Command: /Library/Frameworks/R.framework/Resources/bin/R CMD INSTALL oposSOM StartedAt: 2025-02-03 16:19:20 -0500 (Mon, 03 Feb 2025) EndedAt: 2025-02-03 16:19:59 -0500 (Mon, 03 Feb 2025) EllapsedTime: 39.1 seconds RetCode: 0 Status: OK