Package: oposSOM Version: 2.24.0 Command: /Library/Frameworks/R.framework/Resources/bin/R CMD check --install=check:oposSOM.install-out.txt --library=/Library/Frameworks/R.framework/Resources/library --no-vignettes --timings oposSOM_2.24.0.tar.gz StartedAt: 2024-11-09 09:04:33 -0500 (Sat, 09 Nov 2024) EndedAt: 2024-11-09 09:10:08 -0500 (Sat, 09 Nov 2024) EllapsedTime: 335.3 seconds RetCode: 0 Status: WARNINGS CheckDir: oposSOM.Rcheck Warnings: 3