##############################################################################
##############################################################################
###
### Running command:
###
###   rm -rf oposSOM.buildbin-libdir && mkdir oposSOM.buildbin-libdir && F:\biocbuild\bbs-3.20-bioc\R\bin\R.exe CMD INSTALL --build --library=oposSOM.buildbin-libdir oposSOM_2.24.0.tar.gz
###
##############################################################################
##############################################################################


* installing *source* package 'oposSOM' ...
** using staged installation
** libs
using C++ compiler: 'G__~1.EXE (GCC) 13.3.0'
using C++11
g++  -std=gnu++11 -I"F:/biocbuild/bbs-3.20-bioc/R/include" -DNDEBUG  -I'F:/biocbuild/bbs-3.20-bioc/R/library/RcppParallel/include' -I'F:/biocbuild/bbs-3.20-bioc/R/library/Rcpp/include'   -I"C:/rtools44/x86_64-w64-mingw32.static.posix/include"  -DRCPP_PARALLEL_USE_TBB=1   -O2 -Wall  -mfpmath=sse -msse2 -mstackrealign  -c DeltaMatrix.cpp -o DeltaMatrix.o
g++  -std=gnu++11 -I"F:/biocbuild/bbs-3.20-bioc/R/include" -DNDEBUG  -I'F:/biocbuild/bbs-3.20-bioc/R/library/RcppParallel/include' -I'F:/biocbuild/bbs-3.20-bioc/R/library/Rcpp/include'   -I"C:/rtools44/x86_64-w64-mingw32.static.posix/include"  -DRCPP_PARALLEL_USE_TBB=1   -O2 -Wall  -mfpmath=sse -msse2 -mstackrealign  -c DistanceCalculator.cpp -o DistanceCalculator.o
g++  -std=gnu++11 -I"F:/biocbuild/bbs-3.20-bioc/R/include" -DNDEBUG  -I'F:/biocbuild/bbs-3.20-bioc/R/library/RcppParallel/include' -I'F:/biocbuild/bbs-3.20-bioc/R/library/Rcpp/include'   -I"C:/rtools44/x86_64-w64-mingw32.static.posix/include"  -DRCPP_PARALLEL_USE_TBB=1   -O2 -Wall  -mfpmath=sse -msse2 -mstackrealign  -c NeighborhoodMatrix.cpp -o NeighborhoodMatrix.o
g++  -std=gnu++11 -I"F:/biocbuild/bbs-3.20-bioc/R/include" -DNDEBUG  -I'F:/biocbuild/bbs-3.20-bioc/R/library/RcppParallel/include' -I'F:/biocbuild/bbs-3.20-bioc/R/library/Rcpp/include'   -I"C:/rtools44/x86_64-w64-mingw32.static.posix/include"  -DRCPP_PARALLEL_USE_TBB=1   -O2 -Wall  -mfpmath=sse -msse2 -mstackrealign  -c RcppExports.cpp -o RcppExports.o
g++ -shared -s -static-libgcc -o oposSOM.dll tmp.def DeltaMatrix.o DistanceCalculator.o NeighborhoodMatrix.o RcppExports.o -LF:/biocbuild/bbs-3.20-bioc/R/library/RcppParallel/libs/x64 -lRcppParallel -LF:/biocbuild/bbs-3.20-bioc/R/library/RcppParallel/lib/x64 -ltbb -ltbbmalloc -LC:/rtools44/x86_64-w64-mingw32.static.posix/lib/x64 -LC:/rtools44/x86_64-w64-mingw32.static.posix/lib -LF:/biocbuild/bbs-3.20-bioc/R/bin/x64 -lR
installing to F:/biocbuild/bbs-3.20-bioc/meat/oposSOM.buildbin-libdir/00LOCK-oposSOM/00new/oposSOM/libs/x64
** R
** data
** inst
** byte-compile and prepare package for lazy loading
** help
*** installing help indices
** building package indices
** installing vignettes
** testing if installed package can be loaded from temporary location
** testing if installed package can be loaded from final location
** testing if installed package keeps a record of temporary installation path
* MD5 sums
packaged installation of 'oposSOM' as oposSOM_2.24.0.zip
* DONE (oposSOM)