Package: oposSOM Version: 2.24.0 Command: /home/biocbuild/R/R/bin/R CMD check --install=check:oposSOM.install-out.txt --library=/home/biocbuild/R/R/site-library --no-vignettes --timings oposSOM_2.24.0.tar.gz StartedAt: 2025-02-04 09:33:56 -0000 (Tue, 04 Feb 2025) EndedAt: 2025-02-04 09:37:52 -0000 (Tue, 04 Feb 2025) EllapsedTime: 236.4 seconds RetCode: 1 Status: ERROR CheckDir: oposSOM.Rcheck Warnings: NA