Package: oppar Version: 1.34.0 Command: /Library/Frameworks/R.framework/Resources/bin/R CMD INSTALL oppar StartedAt: 2025-02-03 17:42:13 -0500 (Mon, 03 Feb 2025) EndedAt: 2025-02-03 17:43:00 -0500 (Mon, 03 Feb 2025) EllapsedTime: 46.2 seconds RetCode: 0 Status: OK