Package: oppar Version: 1.34.0 Command: /home/biocbuild/bbs-3.20-bioc/R/bin/R CMD check --install=check:oppar.install-out.txt --library=/home/biocbuild/bbs-3.20-bioc/R/site-library --timings oppar_1.34.0.tar.gz StartedAt: 2025-02-04 00:53:35 -0500 (Tue, 04 Feb 2025) EndedAt: 2025-02-04 00:59:46 -0500 (Tue, 04 Feb 2025) EllapsedTime: 370.5 seconds RetCode: 0 Status: WARNINGS CheckDir: oppar.Rcheck Warnings: 2