Package: oppar Version: 1.34.0 Command: /home/biocbuild/bbs-3.20-bioc/R/bin/R CMD INSTALL oppar StartedAt: 2025-02-03 16:01:00 -0500 (Mon, 03 Feb 2025) EndedAt: 2025-02-03 16:01:40 -0500 (Mon, 03 Feb 2025) EllapsedTime: 39.8 seconds RetCode: 0 Status: OK