Package: oppar
Version: 1.33.0
Command: chmod a+r oppar -R && C:\Users\biocbuild\bbs-3.20-bioc\R\bin\R.exe CMD build --keep-empty-dirs --no-resave-data oppar
StartedAt: 2024-07-15 19:40:45 -0400 (Mon, 15 Jul 2024)
EndedAt: 2024-07-15 19:42:00 -0400 (Mon, 15 Jul 2024)
EllapsedTime: 74.6 seconds
RetCode: 0
Status: OK
PackageFile: oppar_1.33.0.tar.gz
PackageFileSize: 3.379 <A href="http://en.wikipedia.org/wiki/MiB" target="_blank">MiB</A>