Package: oppar Version: 1.34.0 Command: rm -rf oppar.buildbin-libdir && mkdir oppar.buildbin-libdir && F:\biocbuild\bbs-3.20-bioc\R\bin\R.exe CMD INSTALL --build --library=oppar.buildbin-libdir oppar_1.34.0.tar.gz StartedAt: 2025-02-04 09:06:55 -0500 (Tue, 04 Feb 2025) EndedAt: 2025-02-04 09:07:52 -0500 (Tue, 04 Feb 2025) EllapsedTime: 56.2 seconds RetCode: 0 Status: OK PackageFile: oppar_1.34.0.zip PackageFileSize: 5.239 MiB