Package: oppar Version: 1.34.0 Command: F:\biocbuild\bbs-3.20-bioc\R\bin\R.exe CMD check --no-multiarch --install=check:oppar.install-out.txt --library=F:\biocbuild\bbs-3.20-bioc\R\library --no-vignettes --timings oppar_1.34.0.tar.gz StartedAt: 2025-02-04 04:35:39 -0500 (Tue, 04 Feb 2025) EndedAt: 2025-02-04 04:41:32 -0500 (Tue, 04 Feb 2025) EllapsedTime: 353.0 seconds RetCode: 0 Status: WARNINGS CheckDir: oppar.Rcheck Warnings: 2