Package: oppti Version: 1.20.0 Command: rm -rf oppti.buildbin-libdir && mkdir oppti.buildbin-libdir && /Users/biocbuild/BBS/utils/build-universal.sh oppti_1.20.0.tar.gz /Library/Frameworks/R.framework/Resources/bin/R oppti.buildbin-libdir StartedAt: 2025-02-05 17:02:06 -0500 (Wed, 05 Feb 2025) EndedAt: 2025-02-05 17:02:15 -0500 (Wed, 05 Feb 2025) EllapsedTime: 9.1 seconds RetCode: 0 Status: OK PackageFile: oppti_1.20.0.tgz PackageFileSize: 100.4 KiB