Package: oppti Version: 1.20.0 Command: /Library/Frameworks/R.framework/Resources/bin/R CMD build --keep-empty-dirs --no-resave-data oppti StartedAt: 2025-02-04 05:03:26 -0500 (Tue, 04 Feb 2025) EndedAt: 2025-02-04 05:03:54 -0500 (Tue, 04 Feb 2025) EllapsedTime: 27.2 seconds RetCode: 0 Status: OK PackageFile: oppti_1.20.0.tar.gz PackageFileSize: 74.4 KiB