Package: oppti Version: 1.20.0 Command: F:\biocbuild\bbs-3.20-bioc\R\bin\R.exe CMD check --no-multiarch --install=check:oppti.install-out.txt --library=F:\biocbuild\bbs-3.20-bioc\R\library --no-vignettes --timings oppti_1.20.0.tar.gz StartedAt: 2025-02-04 04:35:59 -0500 (Tue, 04 Feb 2025) EndedAt: 2025-02-04 04:37:24 -0500 (Tue, 04 Feb 2025) EllapsedTime: 84.3 seconds RetCode: 0 Status: WARNINGS CheckDir: oppti.Rcheck Warnings: 1