Package: oppti Version: 1.20.0 Command: /home/biocbuild/R/R/bin/R CMD build --keep-empty-dirs --no-resave-data oppti StartedAt: 2025-02-04 01:37:14 -0000 (Tue, 04 Feb 2025) EndedAt: 2025-02-04 01:37:29 -0000 (Tue, 04 Feb 2025) EllapsedTime: 15.0 seconds RetCode: 1 Status: ERROR PackageFile: None PackageFileSize: NA