Package: oppti Version: 1.20.0 Command: /home/biocbuild/R/R/bin/R CMD INSTALL oppti StartedAt: 2025-02-03 21:01:58 -0000 (Mon, 03 Feb 2025) EndedAt: 2025-02-03 21:02:07 -0000 (Mon, 03 Feb 2025) EllapsedTime: 9.4 seconds RetCode: 0 Status: OK