Package: oppti Version: 1.20.0 Command: /home/biocbuild/bbs-3.20-bioc/R/bin/R CMD build --keep-empty-dirs --no-resave-data oppti StartedAt: 2024-11-19 20:38:35 -0500 (Tue, 19 Nov 2024) EndedAt: 2024-11-19 20:38:55 -0500 (Tue, 19 Nov 2024) EllapsedTime: 20.2 seconds RetCode: 0 Status: OK PackageFile: oppti_1.20.0.tar.gz PackageFileSize: 74.38 <A href="http://en.wikipedia.org/wiki/KiB" target="_blank">KiB</A>