Package: oppti
Version: 1.20.0
Command: /home/biocbuild/bbs-3.20-bioc/R/bin/R CMD check --install=check:oppti.install-out.txt --library=/home/biocbuild/bbs-3.20-bioc/R/site-library --timings oppti_1.20.0.tar.gz
StartedAt: 2024-11-20 07:00:26 -0500 (Wed, 20 Nov 2024)
EndedAt: 2024-11-20 07:01:18 -0500 (Wed, 20 Nov 2024)
EllapsedTime: 52.1 seconds
RetCode: 0
Status: WARNINGS
CheckDir: oppti.Rcheck
Warnings: 1