Package: optimalFlow Version: 1.18.0 Command: /Library/Frameworks/R.framework/Resources/bin/R CMD INSTALL optimalFlow StartedAt: 2025-02-03 16:31:58 -0500 (Mon, 03 Feb 2025) EndedAt: 2025-02-03 16:32:18 -0500 (Mon, 03 Feb 2025) EllapsedTime: 19.4 seconds RetCode: 0 Status: OK