##############################################################################
##############################################################################
###
### Running command:
###
###   /home/biocbuild/bbs-3.20-bioc/R/bin/R CMD check --install=check:optimalFlow.install-out.txt --library=/home/biocbuild/bbs-3.20-bioc/R/site-library --timings optimalFlow_1.18.0.tar.gz
###
##############################################################################
##############################################################################


* using log directory ‘/home/biocbuild/bbs-3.20-bioc/meat/optimalFlow.Rcheck’
* using R version 4.4.2 (2024-10-31)
* using platform: x86_64-pc-linux-gnu
* R was compiled by
    gcc (Ubuntu 13.2.0-23ubuntu4) 13.2.0
    GNU Fortran (Ubuntu 13.2.0-23ubuntu4) 13.2.0
* running under: Ubuntu 24.04.2 LTS
* using session charset: UTF-8
* checking for file ‘optimalFlow/DESCRIPTION’ ... OK
* checking extension type ... Package
* this is package ‘optimalFlow’ version ‘1.18.0’
* package encoding: UTF-8
* checking package namespace information ... OK
* checking package dependencies ... OK
* checking if this is a source package ... OK
* checking if there is a namespace ... OK
* checking for hidden files and directories ... OK
* checking for portable file names ... OK
* checking for sufficient/correct file permissions ... OK
* checking whether package ‘optimalFlow’ can be installed ... OK
* checking installed package size ... OK
* checking package directory ... OK
* checking ‘build’ directory ... OK
* checking DESCRIPTION meta-information ... OK
* checking top-level files ... OK
* checking for left-over files ... OK
* checking index information ... OK
* checking package subdirectories ... OK
* checking code files for non-ASCII characters ... OK
* checking R files for syntax errors ... OK
* checking whether the package can be loaded ... OK
* checking whether the package can be loaded with stated dependencies ... OK
* checking whether the package can be unloaded cleanly ... OK
* checking whether the namespace can be loaded with stated dependencies ... OK
* checking whether the namespace can be unloaded cleanly ... OK
* checking loading without being on the library search path ... OK
* checking dependencies in R code ... NOTE
There are ::: calls to the package's namespace in its code. A package
  almost never needs to use ::: for its own objects:
  ‘GaussianBarycenters’ ‘distGaussianCov’ ‘distGaussianMean’
  ‘wassersteinKBarycenter’
* checking S3 generic/method consistency ... OK
* checking replacement functions ... OK
* checking foreign function calls ... OK
* checking R code for possible problems ... NOTE
voteLabelTransfer: no visible binding for global variable ‘cell’
voteLabelTransfer: no visible binding for global variable
  ‘compound.proportion’
voteLabelTransfer: no visible binding for global variable
  ‘vote.proportion’
voteTransformation : <anonymous>: no visible binding for global
  variable ‘cell’
voteTransformation : <anonymous>: no visible binding for global
  variable ‘simple.proportion’
voteTransformation : <anonymous>: no visible binding for global
  variable ‘compound.proportion’
Undefined global functions or variables:
  cell compound.proportion simple.proportion vote.proportion
* checking Rd files ... OK
* checking Rd metadata ... OK
* checking Rd cross-references ... OK
* checking for missing documentation entries ... OK
* checking for code/documentation mismatches ... OK
* checking Rd \usage sections ... OK
* checking Rd contents ... OK
* checking for unstated dependencies in examples ... OK
* checking files in ‘vignettes’ ... OK
* checking examples ... OK
Examples with CPU (user + system) or elapsed time > 5s
                           user system elapsed
optimalFlowClassification 5.538  0.852  13.319
f1ScoreVoting             5.064  0.658  12.693
cytoPlot                  4.701  0.834  12.699
cytoPlotDatabase          3.473  0.849  12.536
cytoPlotDatabase3d        3.530  0.675  11.427
optimalFlowTemplates      3.277  0.536  10.869
wasserCostFunction        3.189  0.623  10.642
cytoPlot3d                3.111  0.638  10.764
* checking for unstated dependencies in vignettes ... OK
* checking package vignettes ... OK
* checking re-building of vignette outputs ... OK
* checking PDF version of manual ... OK
* DONE

Status: 2 NOTEs
See
  ‘/home/biocbuild/bbs-3.20-bioc/meat/optimalFlow.Rcheck/00check.log’
for details.