Package: optimalFlow Version: 1.18.0 Command: /home/biocbuild/bbs-3.20-bioc/R/bin/R CMD INSTALL optimalFlow StartedAt: 2025-02-17 15:36:40 -0500 (Mon, 17 Feb 2025) EndedAt: 2025-02-17 15:36:56 -0500 (Mon, 17 Feb 2025) EllapsedTime: 15.8 seconds RetCode: 0 Status: OK