Package: optimalFlow Version: 1.18.0 Command: F:\biocbuild\bbs-3.20-bioc\R\bin\R.exe CMD INSTALL optimalFlow StartedAt: 2025-02-03 15:49:12 -0500 (Mon, 03 Feb 2025) EndedAt: 2025-02-03 15:50:02 -0500 (Mon, 03 Feb 2025) EllapsedTime: 49.9 seconds RetCode: 0 Status: OK