Package: optimalFlow Version: 1.18.0 Command: /home/biocbuild/R/R/bin/R CMD check --install=check:optimalFlow.install-out.txt --library=/home/biocbuild/R/R/site-library --no-vignettes --timings optimalFlow_1.18.0.tar.gz StartedAt: 2025-02-18 09:39:52 -0000 (Tue, 18 Feb 2025) EndedAt: 2025-02-18 09:45:07 -0000 (Tue, 18 Feb 2025) EllapsedTime: 314.6 seconds RetCode: 0 Status: WARNINGS CheckDir: optimalFlow.Rcheck Warnings: 1