Package: orthogene Version: 1.12.0 Command: /Library/Frameworks/R.framework/Resources/bin/R CMD check --install=check:orthogene.install-out.txt --library=/Library/Frameworks/R.framework/Resources/library --no-vignettes --timings orthogene_1.12.0.tar.gz StartedAt: 2025-02-04 07:35:34 -0500 (Tue, 04 Feb 2025) EndedAt: 2025-02-04 07:51:47 -0500 (Tue, 04 Feb 2025) EllapsedTime: 972.7 seconds RetCode: 0 Status: OK CheckDir: orthogene.Rcheck Warnings: 0