Package: orthogene Version: 1.12.0 Command: /home/biocbuild/bbs-3.20-bioc/R/bin/R CMD check --install=check:orthogene.install-out.txt --library=/home/biocbuild/bbs-3.20-bioc/R/site-library --timings orthogene_1.12.0.tar.gz StartedAt: 2025-02-04 00:55:56 -0500 (Tue, 04 Feb 2025) EndedAt: 2025-02-04 01:08:09 -0500 (Tue, 04 Feb 2025) EllapsedTime: 733.3 seconds RetCode: 0 Status: OK CheckDir: orthogene.Rcheck Warnings: 0