Package: orthogene Version: 1.12.0 Command: chmod a+r orthogene -R && F:\biocbuild\bbs-3.20-bioc\R\bin\R.exe CMD build --keep-empty-dirs --no-resave-data orthogene StartedAt: 2025-02-03 20:59:08 -0500 (Mon, 03 Feb 2025) EndedAt: 2025-02-03 21:00:42 -0500 (Mon, 03 Feb 2025) EllapsedTime: 93.6 seconds RetCode: 0 Status: OK PackageFile: orthogene_1.12.0.tar.gz PackageFileSize: 2.473 MiB