Package: orthogene Version: 1.12.0 Command: F:\biocbuild\bbs-3.20-bioc\R\bin\R.exe CMD INSTALL orthogene StartedAt: 2025-02-03 16:17:24 -0500 (Mon, 03 Feb 2025) EndedAt: 2025-02-03 16:18:21 -0500 (Mon, 03 Feb 2025) EllapsedTime: 57.0 seconds RetCode: 0 Status: OK