Package: orthos Version: 1.4.0 Command: rm -rf orthos.buildbin-libdir && mkdir orthos.buildbin-libdir && /Users/biocbuild/BBS/utils/build-universal.sh orthos_1.4.0.tar.gz /Library/Frameworks/R.framework/Resources/bin/R orthos.buildbin-libdir StartedAt: 2025-02-04 13:42:35 -0500 (Tue, 04 Feb 2025) EndedAt: 2025-02-04 13:43:59 -0500 (Tue, 04 Feb 2025) EllapsedTime: 84.3 seconds RetCode: 0 Status: OK PackageFile: orthos_1.4.0.tgz PackageFileSize: 2.84 MiB