Package: orthos Version: 1.4.0 Command: /Library/Frameworks/R.framework/Resources/bin/R CMD build --keep-empty-dirs --no-resave-data orthos StartedAt: 2025-02-03 21:02:57 -0500 (Mon, 03 Feb 2025) EndedAt: 2025-02-03 21:10:21 -0500 (Mon, 03 Feb 2025) EllapsedTime: 444.2 seconds RetCode: 0 Status: OK PackageFile: orthos_1.4.0.tar.gz PackageFileSize: 3.001 MiB