Package: orthos Version: 1.4.0 Command: /Library/Frameworks/R.framework/Resources/bin/R CMD check --install=check:orthos.install-out.txt --library=/Library/Frameworks/R.framework/Resources/library --no-vignettes --timings orthos_1.4.0.tar.gz StartedAt: 2025-02-04 07:35:56 -0500 (Tue, 04 Feb 2025) EndedAt: 2025-02-04 07:55:45 -0500 (Tue, 04 Feb 2025) EllapsedTime: 1189.8 seconds RetCode: 0 Status: OK CheckDir: orthos.Rcheck Warnings: 0