Package: pRoloc Version: 1.46.0 Command: /Library/Frameworks/R.framework/Resources/bin/R CMD build --keep-empty-dirs --no-resave-data pRoloc StartedAt: 2025-02-04 05:48:28 -0500 (Tue, 04 Feb 2025) EndedAt: 2025-02-04 05:54:02 -0500 (Tue, 04 Feb 2025) EllapsedTime: 333.8 seconds RetCode: 0 Status: OK PackageFile: pRoloc_1.46.0.tar.gz PackageFileSize: 10.55 MiB