Package: pRoloc Version: 1.46.0 Command: /Library/Frameworks/R.framework/Resources/bin/R CMD check --install=check:pRoloc.install-out.txt --library=/Library/Frameworks/R.framework/Resources/library --no-vignettes --timings pRoloc_1.46.0.tar.gz StartedAt: 2025-02-05 06:04:15 -0500 (Wed, 05 Feb 2025) EndedAt: 2025-02-05 06:16:09 -0500 (Wed, 05 Feb 2025) EllapsedTime: 713.7 seconds RetCode: 0 Status: OK CheckDir: pRoloc.Rcheck Warnings: 0