Package: pRoloc Version: 1.46.0 Command: /Library/Frameworks/R.framework/Resources/bin/R CMD INSTALL pRoloc StartedAt: 2025-01-30 17:42:22 -0500 (Thu, 30 Jan 2025) EndedAt: 2025-01-30 17:43:46 -0500 (Thu, 30 Jan 2025) EllapsedTime: 84.6 seconds RetCode: 0 Status: OK