Package: pRoloc Version: 1.46.0 Command: /Library/Frameworks/R.framework/Resources/bin/R CMD INSTALL pRoloc StartedAt: 2025-01-30 16:28:20 -0500 (Thu, 30 Jan 2025) EndedAt: 2025-01-30 16:31:08 -0500 (Thu, 30 Jan 2025) EllapsedTime: 168.8 seconds RetCode: 0 Status: OK