Package: pRoloc Version: 1.46.0 Command: /home/biocbuild/bbs-3.20-bioc/R/bin/R CMD check --install=check:pRoloc.install-out.txt --library=/home/biocbuild/bbs-3.20-bioc/R/site-library --timings pRoloc_1.46.0.tar.gz StartedAt: 2025-02-04 01:22:48 -0500 (Tue, 04 Feb 2025) EndedAt: 2025-02-04 01:36:26 -0500 (Tue, 04 Feb 2025) EllapsedTime: 817.9 seconds RetCode: 0 Status: OK CheckDir: pRoloc.Rcheck Warnings: 0