Package: pRoloc Version: 1.46.0 Command: /home/biocbuild/bbs-3.20-bioc/R/bin/R CMD INSTALL pRoloc StartedAt: 2025-02-03 15:58:27 -0500 (Mon, 03 Feb 2025) EndedAt: 2025-02-03 15:59:55 -0500 (Mon, 03 Feb 2025) EllapsedTime: 87.6 seconds RetCode: 0 Status: OK