Package: pRoloc Version: 1.46.0 Command: chmod a+r pRoloc -R && F:\biocbuild\bbs-3.20-bioc\R\bin\R.exe CMD build --keep-empty-dirs --no-resave-data pRoloc StartedAt: 2025-01-30 21:06:38 -0500 (Thu, 30 Jan 2025) EndedAt: 2025-01-30 21:17:34 -0500 (Thu, 30 Jan 2025) EllapsedTime: 655.4 seconds RetCode: 0 Status: OK PackageFile: pRoloc_1.46.0.tar.gz PackageFileSize: 6.257 MiB