Package: pRolocGUI Version: 2.16.0 Command: /home/biocbuild/R/R/bin/R CMD build --keep-empty-dirs --no-resave-data pRolocGUI StartedAt: 2024-11-20 03:03:52 -0000 (Wed, 20 Nov 2024) EndedAt: 2024-11-20 03:05:28 -0000 (Wed, 20 Nov 2024) EllapsedTime: 95.1 seconds RetCode: 0 Status: OK PackageFile: pRolocGUI_2.16.0.tar.gz PackageFileSize: 3.054 MiB