Package: pRolocGUI
Version: 2.16.0
Command: /Library/Frameworks/R.framework/Resources/bin/R CMD INSTALL pRolocGUI
StartedAt: 2025-02-17 16:26:00 -0500 (Mon, 17 Feb 2025)
EndedAt: 2025-02-17 16:27:47 -0500 (Mon, 17 Feb 2025)
EllapsedTime: 107.5 seconds
RetCode: 0
Status: OK