Package: pRolocGUI
Version: 2.16.0
Command: /home/biocbuild/bbs-3.20-bioc/R/bin/R CMD build --keep-empty-dirs --no-resave-data --md5 pRolocGUI
StartedAt: 2025-02-17 18:34:08 -0500 (Mon, 17 Feb 2025)
EndedAt: 2025-02-17 18:35:12 -0500 (Mon, 17 Feb 2025)
EllapsedTime: 64.1 seconds
RetCode: 0
Status: OK
PackageFile: pRolocGUI_2.16.0.tar.gz
PackageFileSize: 2.992 <A href="http://en.wikipedia.org/wiki/MiB" target="_blank">MiB</A>