Package: pRolocGUI Version: 2.16.0 Command: F:\biocbuild\bbs-3.20-bioc\R\bin\R.exe CMD INSTALL pRolocGUI StartedAt: 2025-02-03 17:10:59 -0500 (Mon, 03 Feb 2025) EndedAt: 2025-02-03 17:11:58 -0500 (Mon, 03 Feb 2025) EllapsedTime: 58.4 seconds RetCode: 0 Status: OK