Package: packFinder Version: 1.18.0 Command: rm -rf packFinder.buildbin-libdir && mkdir packFinder.buildbin-libdir && /Users/biocbuild/BBS/utils/build-universal.sh packFinder_1.18.0.tar.gz /Library/Frameworks/R.framework/Resources/bin/R packFinder.buildbin-libdir StartedAt: 2025-02-05 17:03:49 -0500 (Wed, 05 Feb 2025) EndedAt: 2025-02-05 17:03:54 -0500 (Wed, 05 Feb 2025) EllapsedTime: 4.4 seconds RetCode: 0 Status: OK PackageFile: packFinder_1.18.0.tgz PackageFileSize: 1.161 MiB