Package: packFinder Version: 1.18.0 Command: /Library/Frameworks/R.framework/Resources/bin/R CMD check --install=check:packFinder.install-out.txt --library=/Library/Frameworks/R.framework/Resources/library --no-vignettes --timings packFinder_1.18.0.tar.gz StartedAt: 2025-02-05 04:49:06 -0500 (Wed, 05 Feb 2025) EndedAt: 2025-02-05 04:49:57 -0500 (Wed, 05 Feb 2025) EllapsedTime: 50.9 seconds RetCode: 0 Status: OK CheckDir: packFinder.Rcheck Warnings: 0