Package: packFinder Version: 1.18.0 Command: /Library/Frameworks/R.framework/Resources/bin/R CMD INSTALL packFinder StartedAt: 2025-02-03 16:59:22 -0500 (Mon, 03 Feb 2025) EndedAt: 2025-02-03 16:59:25 -0500 (Mon, 03 Feb 2025) EllapsedTime: 2.9 seconds RetCode: 0 Status: OK