Package: packFinder Version: 1.18.0 Command: rm -rf packFinder.buildbin-libdir && mkdir packFinder.buildbin-libdir && /Users/biocbuild/BBS/utils/build-universal.sh packFinder_1.18.0.tar.gz /Library/Frameworks/R.framework/Resources/bin/R packFinder.buildbin-libdir StartedAt: 2025-02-04 13:43:15 -0500 (Tue, 04 Feb 2025) EndedAt: 2025-02-04 13:43:24 -0500 (Tue, 04 Feb 2025) EllapsedTime: 8.4 seconds RetCode: 0 Status: OK PackageFile: packFinder_1.18.0.tgz PackageFileSize: 1.161 MiB