Package: packFinder Version: 1.18.0 Command: /Library/Frameworks/R.framework/Resources/bin/R CMD build --keep-empty-dirs --no-resave-data packFinder StartedAt: 2025-02-03 21:04:54 -0500 (Mon, 03 Feb 2025) EndedAt: 2025-02-03 21:05:44 -0500 (Mon, 03 Feb 2025) EllapsedTime: 49.5 seconds RetCode: 0 Status: OK PackageFile: packFinder_1.18.0.tar.gz PackageFileSize: 1.132 MiB