Package: packFinder Version: 1.18.0 Command: /home/biocbuild/bbs-3.20-bioc/R/bin/R CMD build --keep-empty-dirs --no-resave-data --md5 packFinder StartedAt: 2025-02-03 18:37:25 -0500 (Mon, 03 Feb 2025) EndedAt: 2025-02-03 18:37:52 -0500 (Mon, 03 Feb 2025) EllapsedTime: 27.1 seconds RetCode: 0 Status: OK PackageFile: packFinder_1.18.0.tar.gz PackageFileSize: 1.151 MiB